BEGIN:VCALENDAR
VERSION:2.0
PRODID:-//Mindshift Sverige - ECPv6.15.17.1//NONSGML v1.0//EN
CALSCALE:GREGORIAN
METHOD:PUBLISH
X-WR-CALNAME:Mindshift Sverige
X-ORIGINAL-URL:https://www.mindshiftsverige.se
X-WR-CALDESC:Händelser för Mindshift Sverige
REFRESH-INTERVAL;VALUE=DURATION:PT1H
X-Robots-Tag:noindex
X-PUBLISHED-TTL:PT1H
BEGIN:VTIMEZONE
TZID:Europe/Stockholm
BEGIN:DAYLIGHT
TZOFFSETFROM:+0100
TZOFFSETTO:+0200
TZNAME:CEST
DTSTART:20240331T010000
END:DAYLIGHT
BEGIN:STANDARD
TZOFFSETFROM:+0200
TZOFFSETTO:+0100
TZNAME:CET
DTSTART:20241027T010000
END:STANDARD
BEGIN:DAYLIGHT
TZOFFSETFROM:+0100
TZOFFSETTO:+0200
TZNAME:CEST
DTSTART:20250330T010000
END:DAYLIGHT
BEGIN:STANDARD
TZOFFSETFROM:+0200
TZOFFSETTO:+0100
TZNAME:CET
DTSTART:20251026T010000
END:STANDARD
BEGIN:DAYLIGHT
TZOFFSETFROM:+0100
TZOFFSETTO:+0200
TZNAME:CEST
DTSTART:20260329T010000
END:DAYLIGHT
BEGIN:STANDARD
TZOFFSETFROM:+0200
TZOFFSETTO:+0100
TZNAME:CET
DTSTART:20261025T010000
END:STANDARD
END:VTIMEZONE
BEGIN:VEVENT
DTSTART;TZID=Europe/Stockholm:20251009T083000
DTEND;TZID=Europe/Stockholm:20251009T120000
DTSTAMP:20260421T102541
CREATED:20250821T142009Z
LAST-MODIFIED:20250821T142148Z
UID:10000055-1759998600-1760011200@www.mindshiftsverige.se
SUMMARY:Första hjälpen till psykisk hälsa
DESCRIPTION:Det här är en utbildning som ger dig ökade kunskaper om psykiska sjukdomar och en handlingsplan som hjälper dig att bli en Första hjälpare. \nPsykisk ohälsa är ett folkhälsoproblem \nDet drabbar de flesta någon gång i livet och finns runt oss alla vare sig det är i den egna familjen\, på arbetsplatsen\, i föreningen eller i de offentliga rum vi vistas i. \nFörsta hjälpen till psykisk hälsa lär dig att bemöta och hjälpa i kris eller vid psykisk ohälsa\, genom att: \n\nkänna igen och ingripa vid kriser\nvåga möta och prata med medmänniskor som mår dåligt\nbekräfta och uppmuntra till att söka hjälp\nminska omedelbar självmordsrisk\n\nKursen lär ut om de vanligaste psykiatriska diagnosgrupperna och hur tecken på olika former av psykisk ohälsa kan vägleda oss att upptäcka\, ta kontakt och hjälpa till på rätt sätt. Som Första hjälpare får du lära dig att stödja och uppmuntra en drabbad person tills ett tillfälligt kristillstånd är över eller tills personen fått lämplig professionell hjälp. \nFörsta hjälpen till psykisk hälsa har ursprungligen utvecklats i Australien och benämns där Mental Health First Aid – MHFA. I Sverige har det översatts och anpassats till våra förhållanden av Nationellt centrum för suicidforskning och prevention – NASP vid Karolinska Institutet. \nKursen vänder sig till dig som är ledare och/eller kollega/medarbetare\, vän/granne\, förälder/anhörig. \nDet krävs inga förkunskaper. \nFörsta hjälpen till psykisk hälsa omfattar 12 timmar(16 studietimmar)\, fördelat på fyra tillfällen. \nDatum: 9\, 14\, 21 och 23 oktober kl.08:30-12:00. \nKursavgift: 1200 kr – ingen kursavgift för gotlänningar (bekostas av MindShift Gotland). \nKursledare: Lotta Lundberg-Ericsson\, verksamhetsutvecklare Sensus studieförbund och MHFA-instruktör \nAnmälan till kursen sker via Sensus. Sista anmälningsdag är 26 september.
URL:https://www.mindshiftsverige.se/event1/forsta-hjalpen-till-psykisk-halsa/
LOCATION:Digitalt\, Sverige
CATEGORIES:Gotland Utbildning
ATTACH;FMTTYPE=image/png:https://www.mindshiftsverige.se/wp-content/uploads/verktygslada-figurer-1.png
END:VEVENT
END:VCALENDAR