BEGIN:VCALENDAR
VERSION:2.0
PRODID:-//Mindshift Sverige - ECPv6.15.17.1//NONSGML v1.0//EN
CALSCALE:GREGORIAN
METHOD:PUBLISH
X-ORIGINAL-URL:https://www.mindshiftsverige.se
X-WR-CALDESC:Händelser för Mindshift Sverige
REFRESH-INTERVAL;VALUE=DURATION:PT1H
X-Robots-Tag:noindex
X-PUBLISHED-TTL:PT1H
BEGIN:VTIMEZONE
TZID:Europe/Stockholm
BEGIN:DAYLIGHT
TZOFFSETFROM:+0100
TZOFFSETTO:+0200
TZNAME:CEST
DTSTART:20240331T010000
END:DAYLIGHT
BEGIN:STANDARD
TZOFFSETFROM:+0200
TZOFFSETTO:+0100
TZNAME:CET
DTSTART:20241027T010000
END:STANDARD
BEGIN:DAYLIGHT
TZOFFSETFROM:+0100
TZOFFSETTO:+0200
TZNAME:CEST
DTSTART:20250330T010000
END:DAYLIGHT
BEGIN:STANDARD
TZOFFSETFROM:+0200
TZOFFSETTO:+0100
TZNAME:CET
DTSTART:20251026T010000
END:STANDARD
BEGIN:DAYLIGHT
TZOFFSETFROM:+0100
TZOFFSETTO:+0200
TZNAME:CEST
DTSTART:20260329T010000
END:DAYLIGHT
BEGIN:STANDARD
TZOFFSETFROM:+0200
TZOFFSETTO:+0100
TZNAME:CET
DTSTART:20261025T010000
END:STANDARD
END:VTIMEZONE
BEGIN:VEVENT
DTSTART;TZID=Europe/Stockholm:20250218T143000
DTEND;TZID=Europe/Stockholm:20250218T160000
DTSTAMP:20260421T115404
CREATED:20250124T140322Z
LAST-MODIFIED:20250124T140322Z
UID:10000054-1739889000-1739894400@www.mindshiftsverige.se
SUMMARY:Språkcafé med Mindshift
DESCRIPTION:Vid ett språkcafé samlas nya och etablerade svenskar för att fika och samtala under lättsamma former. Vid det här tillfället kommer Mindshifts Samtalsbank att testas. Samtalsbanken finns för att bidra till fler meningsfulla samtal. \nDet här är ett tillfälle att träna på att prata svenska och att träffa nya människor! \nHar du barn? De är också välkomna! Det kommer att finnas papper\, kritor och några spel på plats i lokalen. \nKlicka här för mer information \nIngen föranmälan krävs. Kom som du är!
URL:https://www.mindshiftsverige.se/event1/sprakcafe-med-mindshift/
LOCATION:Spektrum\, Fridtunagatan 41\, Linköping\, Östergötland\, 58213\, Sverige
CATEGORIES:Östergötland Event
ATTACH;FMTTYPE=image/jpeg:https://www.mindshiftsverige.se/wp-content/uploads/sprakcafe.jpg
END:VEVENT
END:VCALENDAR