BEGIN:VCALENDAR
VERSION:2.0
PRODID:-//Mindshift Sverige - ECPv6.15.17.1//NONSGML v1.0//EN
CALSCALE:GREGORIAN
METHOD:PUBLISH
X-ORIGINAL-URL:https://www.mindshiftsverige.se
X-WR-CALDESC:Händelser för Mindshift Sverige
REFRESH-INTERVAL;VALUE=DURATION:PT1H
X-Robots-Tag:noindex
X-PUBLISHED-TTL:PT1H
BEGIN:VTIMEZONE
TZID:Europe/Stockholm
BEGIN:DAYLIGHT
TZOFFSETFROM:+0100
TZOFFSETTO:+0200
TZNAME:CEST
DTSTART:20250330T010000
END:DAYLIGHT
BEGIN:STANDARD
TZOFFSETFROM:+0200
TZOFFSETTO:+0100
TZNAME:CET
DTSTART:20251026T010000
END:STANDARD
BEGIN:DAYLIGHT
TZOFFSETFROM:+0100
TZOFFSETTO:+0200
TZNAME:CEST
DTSTART:20260329T010000
END:DAYLIGHT
BEGIN:STANDARD
TZOFFSETFROM:+0200
TZOFFSETTO:+0100
TZNAME:CET
DTSTART:20261025T010000
END:STANDARD
BEGIN:DAYLIGHT
TZOFFSETFROM:+0100
TZOFFSETTO:+0200
TZNAME:CEST
DTSTART:20270328T010000
END:DAYLIGHT
BEGIN:STANDARD
TZOFFSETFROM:+0200
TZOFFSETTO:+0100
TZNAME:CET
DTSTART:20271031T010000
END:STANDARD
END:VTIMEZONE
BEGIN:VEVENT
DTSTART;TZID=Europe/Stockholm:20260128T120000
DTEND;TZID=Europe/Stockholm:20260128T130000
DTSTAMP:20260422T020413
CREATED:20260113T083404Z
LAST-MODIFIED:20260114T085429Z
UID:10000077-1769601600-1769605200@www.mindshiftsverige.se
SUMMARY:Lunch med Mindshift: Rörelse och fysisk aktivitet
DESCRIPTION:En lunch för dig som tillsammans med andra vill utforska hur vi med gemensamma krafter kan stärka psykisk hälsa och välbefinnande\, på individ-\, organisations- och samhällsnivå. \n\n28 januari kl. 12–13\nCampushallen Ebbepark\, Linköping\n\nTema för lunchen\nDen här gången hälsar vi på hos en av Mindshifts medlemmar\, Campushallen\, och vi tas emot av verksamhetsledare Pia Carlsson. Pia introducerar oss till hur rörelse kan påverka hur vi mår – även psykiskt – och delar tankar om vad som krävs för att skapa ett hållbart förhållningssätt till fysisk aktivitet och hållbara vanor över tid. \nEfter Pias introduktion fortsätter vi samtalet över en bit mat och reflekterar tillsammans över hur rörelse kan bli något lustfyllt i vardagen snarare än ett krav\, vad som gör att en förändring känns realistisk att hålla i och hur vi\, i de sammanhang där vi finns\, kan bidra till att det blir lättare att välja det som får oss att må bra.  \n Vid det här tillfället bjuder Mindshift på lunchen! \n Jag vill anmäla mig\nBegränsat antal platser\, anmäl dig senast 23 januari. \nLunchen hålls hos Campushallen Ebbepark\, i den nya MilonStudion med maskiner för styrketräning som själva ställer in sig efter användarens profil. I samband med lunchen finns möjlighet att testa några av maskinerna. \nOm Lunch med Mindshift\nVi ses i Linköping\, ungefär en gång i månaden. Varje lunch har ett tema som kort introduceras\, ibland av en inbjuden gäst\, ibland av någon av oss arrangörer. Därefter fortsätter samtalet runt borden – enkelt\, kravlöst och på riktigt. \nMålet? Att skapa en levande mötesplats där idéer\, kunskap och kontakter får växa. För när människor med engagemang möts – då kan det uppstå magi! \nVälkommen till bords! \n\nLuncherna är öppna för alla och du väljer själv hur många gånger och hur ofta du vill delta.  \n 
URL:https://www.mindshiftsverige.se/event1/lunch-med-mindshift-rorelse-och-fysisk-aktivitet/
LOCATION:Campushallen Ebbepark\, Ebbegatan 11\, Linköping\, Östergötland\, 58213\, Sweden
CATEGORIES:Östergötland Event
ATTACH;FMTTYPE=image/jpeg:https://www.mindshiftsverige.se/wp-content/uploads/louis-hansel-9cjvlbughy-unsplash.jpg
END:VEVENT
END:VCALENDAR