BEGIN:VCALENDAR
VERSION:2.0
PRODID:-//Mindshift Sverige - ECPv6.15.17.1//NONSGML v1.0//EN
CALSCALE:GREGORIAN
METHOD:PUBLISH
X-WR-CALNAME:Mindshift Sverige
X-ORIGINAL-URL:https://www.mindshiftsverige.se
X-WR-CALDESC:Händelser för Mindshift Sverige
REFRESH-INTERVAL;VALUE=DURATION:PT1H
X-Robots-Tag:noindex
X-PUBLISHED-TTL:PT1H
BEGIN:VTIMEZONE
TZID:Europe/Stockholm
BEGIN:DAYLIGHT
TZOFFSETFROM:+0100
TZOFFSETTO:+0200
TZNAME:CEST
DTSTART:20210328T010000
END:DAYLIGHT
BEGIN:STANDARD
TZOFFSETFROM:+0200
TZOFFSETTO:+0100
TZNAME:CET
DTSTART:20211031T010000
END:STANDARD
BEGIN:DAYLIGHT
TZOFFSETFROM:+0100
TZOFFSETTO:+0200
TZNAME:CEST
DTSTART:20220327T010000
END:DAYLIGHT
BEGIN:STANDARD
TZOFFSETFROM:+0200
TZOFFSETTO:+0100
TZNAME:CET
DTSTART:20221030T010000
END:STANDARD
BEGIN:DAYLIGHT
TZOFFSETFROM:+0100
TZOFFSETTO:+0200
TZNAME:CEST
DTSTART:20230326T010000
END:DAYLIGHT
BEGIN:STANDARD
TZOFFSETFROM:+0200
TZOFFSETTO:+0100
TZNAME:CET
DTSTART:20231029T010000
END:STANDARD
END:VTIMEZONE
BEGIN:VEVENT
DTSTART;TZID=Europe/Stockholm:20221129T140000
DTEND;TZID=Europe/Stockholm:20221129T170000
DTSTAMP:20260423T044203
CREATED:20230131T131343Z
LAST-MODIFIED:20230308T112529Z
UID:10000001-1669730400-1669741200@www.mindshiftsverige.se
SUMMARY:Innovation för psykisk hälsa November 2022
DESCRIPTION:Ett samhälle som prioriterar välbefinnande –\nhur ser det ut och hur når vi dit?\nArrangeras av MindShift Östergötland.\nVarje nätverksträff har unikt tema\, externa föreläsare och ofta något praktiskt moment. \nI dag lever vi i en verklighet som på många sätt går emot grundläggande och djupt mänskliga behov. Resultatet ser vi i form av psykisk ohälsa med höga sjuktal och en haltande samhällsutveckling som följd. Det här kan vi förändra! För att bli påminda om och möta de här grundläggande behoven behöver vi skapa ett skifte. \nVi kallar det MindShift!\nNu bjuder vi in till tankeväckande föreläsning som kommer inspirera till förändring och föreläsningen går därför över till en innovationsverkstad där offentlig sektor\, näringsliv och representanter från civilsamhälle innoverar tillsammans. Med våra olika kompetenser och expertis kan vi nå både högre och längre\, i närtid.\nPsykisk hälsa är inte bara vårdens ansvar. Det är vårt gemensamma ansvar!\nVälkommen till en eftermiddag med fokus på innovation för psykisk hälsa. \nFöreläsning\nNiklas Huss\nInnovations- och transformationsledare \nMed skärpa och allvar beskriver Niklas Huss var vi befinner oss i dag. Han sätter fingret på hur vårt välbefinnande påverkas av de normer\, attityder och förväntningar som vi både möter och själva är en del av i alla de miljöer där vi tillbringar vår tid\, oavsett ålder.\nMed samma träffsäkerhet målar han upp det skifte som behövs för en hållbar samhällsutveckling\, där psykisk hälsa och välbefinnande är en förutsättning. \nNiklas är en engagerande talare och facilitator med förmågan att gå från behov till implementering.\nMed bakgrund inom både Skatteverket och försäkringsbranschen har han skapat transformation i traditionella miljöer och är i dag involverad i flera olika initiativ med målet att skapa möten och samverkan som kan förändra världen – Samverket som är en cowork för offentlig sektor\, Samhällskontraktet i Mälardalen och även MindShift. \nInnovationsverkstad\nMed utgångspunkt i en ny och ljusare framtid leder Niklas oss vidare i en strukturerad innovationsverkstad där vi tillsammans genererar idéer inom följande fokusområden \n\nEtt hållbart arbetsliv\nVälbefinnande för barn och unga\nTrygga livsmiljöer\n\nSom deltagare kan du välja vilken arena du vill bidra med idéer till den här eftermiddagen och det finns också möjlighet att fortsätta att engagera dig i en idé som har fångat dig. Vi ser fram emot att träffa många olika verksamheter och branscher den här dagen. Välkommen! \nVad händer efter innovations-verkstan?\n\nSist denna eftermiddag och direkt efter innovations-verkstan sker en kort pitch av utvalda idéer/innovationer.\nHär kan man också anmäla sig som nyfiken/intresserad av fortsatt information kring idéen.\nUtvecklingsgrupper bildas och leder vid behov förstudier/omvärldsanalys kring idén.\n\n\nMindShift kan stötta och hjälpa till att hitta kontaktvägar där det behövs.\nSka idén sedan tas vidare bildas en projektgrupp & projektledare utses.\nVerksamheterna som här är inblandade är de som ansvarar för att idén blir verklighet.\n\nÅtagande?\nAtt vara nyfiken var en kreativ idé kan leda är helt förutsättningslöst. Du får i det läget information om nästa steg och kanske är med i en uppstart innan du tar ställning om du ska engagera dig vidare. Du eller din verksamhet kanske bara ska vara med i uppstart\, vara med på vissa delar i det kommande arbetet eller så tar ni täten och har en mer drivande roll. Detta är upp till var och en. Det är dock viktigt att alltid vara öppen och tydlig med hur dina möjligheter i tid & engagemang ser ut om du vill gå vidare i arbetet. \n 
URL:https://www.mindshiftsverige.se/event1/innovation-for-psykisk-halsa-november-2022/
LOCATION:Östergötland\, Sverige
CATEGORIES:Östergötland Event
ATTACH;FMTTYPE=image/jpeg:https://www.mindshiftsverige.se/wp-content/uploads/iStock-1198049185.jpg
END:VEVENT
END:VCALENDAR