BEGIN:VCALENDAR
VERSION:2.0
PRODID:-//Mindshift Sverige - ECPv6.15.17.1//NONSGML v1.0//EN
CALSCALE:GREGORIAN
METHOD:PUBLISH
X-WR-CALNAME:Mindshift Sverige
X-ORIGINAL-URL:https://www.mindshiftsverige.se
X-WR-CALDESC:Händelser för Mindshift Sverige
REFRESH-INTERVAL;VALUE=DURATION:PT1H
X-Robots-Tag:noindex
X-PUBLISHED-TTL:PT1H
BEGIN:VTIMEZONE
TZID:Europe/Stockholm
BEGIN:DAYLIGHT
TZOFFSETFROM:+0100
TZOFFSETTO:+0200
TZNAME:CEST
DTSTART:20220327T010000
END:DAYLIGHT
BEGIN:STANDARD
TZOFFSETFROM:+0200
TZOFFSETTO:+0100
TZNAME:CET
DTSTART:20221030T010000
END:STANDARD
BEGIN:DAYLIGHT
TZOFFSETFROM:+0100
TZOFFSETTO:+0200
TZNAME:CEST
DTSTART:20230326T010000
END:DAYLIGHT
BEGIN:STANDARD
TZOFFSETFROM:+0200
TZOFFSETTO:+0100
TZNAME:CET
DTSTART:20231029T010000
END:STANDARD
BEGIN:DAYLIGHT
TZOFFSETFROM:+0100
TZOFFSETTO:+0200
TZNAME:CEST
DTSTART:20240331T010000
END:DAYLIGHT
BEGIN:STANDARD
TZOFFSETFROM:+0200
TZOFFSETTO:+0100
TZNAME:CET
DTSTART:20241027T010000
END:STANDARD
END:VTIMEZONE
BEGIN:VEVENT
DTSTART;TZID=Europe/Stockholm:20231010T100000
DTEND;TZID=Europe/Stockholm:20231010T190000
DTSTAMP:20260422T125207
CREATED:20230620T082100Z
LAST-MODIFIED:20230913T185614Z
UID:10000019-1696932000-1696964400@www.mindshiftsverige.se
SUMMARY:Världsdagen för psykisk hälsa
DESCRIPTION:Den 10 oktober är det Världsdagen för psykisk hälsa. Det uppmärksammas bland annat i Värmekyrkan i Norrköping där Region Östergötland bjuder in till en dag om livspussel och mående. \nUnder dagen kommer ett 30-tal utställare\, bland annat Mindshift Östergötland\, att finns på plats för att ge information och erbjuda prova-på-aktiviteter. Upplev lunchdisco\, samtal om existentiell hälsa och få tips om smarta vardagsverktyg. \nDet erbjuds även föreläsningar av Linus Thörnblad\, Hanna Hellquist och Ina Lundström på temat psykisk hälsa. \nDen 10 oktober är utsedd av WHO till Världsdagen för psykisk hälsa med syfte att öka\nmedvetenheten om psykisk hälsa runt om i världen. Vi välkomnar dig oavsett var du befinner\ndig i livspusslet som arbetande\, studerande\, sjukskriven\, arbetslös\, föräldraledig\, närstående\,\nideellt aktiv eller bara vetgirig. \nDagen är kostnadsfri och öppen för alla. Är du i behov av sittplats till föredragen kan du\nanmäla dig via louisdegeer.se/evenemang/. Här finns också fullständigt program och möjlighet\natt beställa lunchmacka. Enklare förtäring går att köpa på plats hela dagen. \n 
URL:https://www.mindshiftsverige.se/event1/varldsdagen-for-psykisk-halsa/
LOCATION:Östergötland\, Sverige
CATEGORIES:Östergötland Event
ATTACH;FMTTYPE=image/jpeg:https://www.mindshiftsverige.se/wp-content/uploads/iStock-848189380.jpg
END:VEVENT
END:VCALENDAR