BEGIN:VCALENDAR
VERSION:2.0
PRODID:-//Mindshift Sverige - ECPv6.15.17.1//NONSGML v1.0//EN
CALSCALE:GREGORIAN
METHOD:PUBLISH
X-ORIGINAL-URL:https://www.mindshiftsverige.se
X-WR-CALDESC:Händelser för Mindshift Sverige
REFRESH-INTERVAL;VALUE=DURATION:PT1H
X-Robots-Tag:noindex
X-PUBLISHED-TTL:PT1H
BEGIN:VTIMEZONE
TZID:Europe/Stockholm
BEGIN:DAYLIGHT
TZOFFSETFROM:+0100
TZOFFSETTO:+0200
TZNAME:CEST
DTSTART:20240331T010000
END:DAYLIGHT
BEGIN:STANDARD
TZOFFSETFROM:+0200
TZOFFSETTO:+0100
TZNAME:CET
DTSTART:20241027T010000
END:STANDARD
BEGIN:DAYLIGHT
TZOFFSETFROM:+0100
TZOFFSETTO:+0200
TZNAME:CEST
DTSTART:20250330T010000
END:DAYLIGHT
BEGIN:STANDARD
TZOFFSETFROM:+0200
TZOFFSETTO:+0100
TZNAME:CET
DTSTART:20251026T010000
END:STANDARD
BEGIN:DAYLIGHT
TZOFFSETFROM:+0100
TZOFFSETTO:+0200
TZNAME:CEST
DTSTART:20260329T010000
END:DAYLIGHT
BEGIN:STANDARD
TZOFFSETFROM:+0200
TZOFFSETTO:+0100
TZNAME:CET
DTSTART:20261025T010000
END:STANDARD
END:VTIMEZONE
BEGIN:VEVENT
DTSTART;TZID=Europe/Stockholm:20251002T180000
DTEND;TZID=Europe/Stockholm:20251002T193000
DTSTAMP:20260421T225339
CREATED:20250919T075547Z
LAST-MODIFIED:20250919T075547Z
UID:10000073-1759428000-1759433400@www.mindshiftsverige.se
SUMMARY:Vad ger det att ge? Magin i ideellt engagemang
DESCRIPTION:Att hjälpa andra är inte bara meningsfullt – det gör också gott för din egen hälsa!\nVälkommen till en kväll fylld av inspiration\, berättelser och nya möjligheter att engagera dig ideellt. \n\nTorsdagen den 2 oktober\n18.00-19.30\nLinköpings huvudbibliotek\, stora scenen\n\nKvällen tar avstamp i det forsknings­baserade rådet för god psykisk hälsa och välbefinnande\, att göra något meningsfullt. Delta för att tillsammans med andra ta reda på vad du som privatperson eller förening brinner lite extra för och vill engagera dig i. Det blir en kväll med fokus på hälso­effekterna av att arbeta ideellt och hjälpa sina medmänniskor. \nPROGRAM\n🎤 Välkommen!\nMedarbetare från Region Östergötland presenterar kvällen och forskningen bakom\nuppmaningen ”Gör något meningsfullt”\n🧠 Hjälpandets psykologi\nFöreläsning med Arvid Erlandsson\, Linköpings universitet\n💬 Min berättelse\nEldsjälar från Trivselvandrarna\, Resurspoolen och Stadsmissionen delar sina erfarenheter\nav att arbeta ideellt\n🤝 Hur kan jag engagera mig?\nTeodora Eliasson från Volontärbyrån visar vägar in i frivilligarbete – för alla! \n🎟 Fri entré – ingen anmälan krävs! \nEtt samarbete mellan ABC för god psykisk hälsa\, Volontärbyrån och Mindshift Östergötland.
URL:https://www.mindshiftsverige.se/event1/vad-ger-det-att-ge-magin-i-ideellt-engagemang/
LOCATION:Linköpings huvudbibliotek\, Östgötagatan 5\, Linköping\, Östergötland\, 58232\, Sweden
CATEGORIES:Östergötland Event
ATTACH;FMTTYPE=image/jpeg:https://www.mindshiftsverige.se/wp-content/uploads/tillsammans-asa-lundin-hedstrom.jpg
END:VEVENT
END:VCALENDAR