BEGIN:VCALENDAR
VERSION:2.0
PRODID:-//Mindshift Sverige - ECPv6.15.17.1//NONSGML v1.0//EN
CALSCALE:GREGORIAN
METHOD:PUBLISH
X-ORIGINAL-URL:https://www.mindshiftsverige.se
X-WR-CALDESC:Händelser för Mindshift Sverige
REFRESH-INTERVAL;VALUE=DURATION:PT1H
X-Robots-Tag:noindex
X-PUBLISHED-TTL:PT1H
BEGIN:VTIMEZONE
TZID:Europe/Stockholm
BEGIN:DAYLIGHT
TZOFFSETFROM:+0100
TZOFFSETTO:+0200
TZNAME:CEST
DTSTART:20240331T010000
END:DAYLIGHT
BEGIN:STANDARD
TZOFFSETFROM:+0200
TZOFFSETTO:+0100
TZNAME:CET
DTSTART:20241027T010000
END:STANDARD
BEGIN:DAYLIGHT
TZOFFSETFROM:+0100
TZOFFSETTO:+0200
TZNAME:CEST
DTSTART:20250330T010000
END:DAYLIGHT
BEGIN:STANDARD
TZOFFSETFROM:+0200
TZOFFSETTO:+0100
TZNAME:CET
DTSTART:20251026T010000
END:STANDARD
BEGIN:DAYLIGHT
TZOFFSETFROM:+0100
TZOFFSETTO:+0200
TZNAME:CEST
DTSTART:20260329T010000
END:DAYLIGHT
BEGIN:STANDARD
TZOFFSETFROM:+0200
TZOFFSETTO:+0100
TZNAME:CET
DTSTART:20261025T010000
END:STANDARD
END:VTIMEZONE
BEGIN:VEVENT
DTSTART;TZID=Europe/Stockholm:20251017T120000
DTEND;TZID=Europe/Stockholm:20251017T130000
DTSTAMP:20260422T022452
CREATED:20250923T124013Z
LAST-MODIFIED:20250923T124058Z
UID:10000074-1760702400-1760706000@www.mindshiftsverige.se
SUMMARY:Lunch med Mindshift – tema existentiell hälsa
DESCRIPTION:17 oktober kl. 12.00–13.00\nRestaurang von Dufva\, Gränden Duvan 3A\, Linköping\n\nDen här gången utforskar vi existentiell hälsa\, en dimension av livet som rör människans förhållande till livets stora frågor och som påverkar det psykiska måendet. Under lunchen fördjupar vi oss i ett av den existentiella hälsans åtta områden: meningsfullhet. När vi upplever meningsfullhet blir vi mer motståndskraftiga\, mer närvarande och bättre rustade att hantera livets utmaningar. \nVid lunchen får du prova på att prata om frågor som: Vad ger mig mening i livet och i arbetet? Hur kan jag hitta tillbaka till meningsfullheten när den känns långt borta?  \nTillsammans diskuterar vi också hur existentiell hälsa kan bli en del av arbetsmiljöarbetet eller på andra sätt implementeras i den vardag där du rör dig.  \nAnmäl dig här \nBegränsat antal platser\, anmäl dig senast 14 oktober. \n  \nOm Lunch med Mindshift \nVi ses en fredag i månaden kl. 12-13 på Von Dufva i Linköping. Varje lunch har ett tema som kort introduceras\, ibland av en inbjuden gäst\, ibland av någon av oss arrangörer. Därefter fortsätter samtalet runt borden – enkelt\, kravlöst och på riktigt. \nMålet? Att skapa en levande mötesplats där idéer\, kunskap och kontakter får växa. För när människor med engagemang möts – då kan det uppstå magi! \nVälkommen till bords! \nDu betalar för din egen lunch och du väljer själv hur många gånger du vill vara med.
URL:https://www.mindshiftsverige.se/event1/lunch-med-mindshift-tema-existentiell-halsa/
LOCATION:Restaurang Von Dufva\, Gränden Duvan 3A\, Linköping\, 58222\, Sweden
CATEGORIES:Östergötland Event
ATTACH;FMTTYPE=image/jpeg:https://www.mindshiftsverige.se/wp-content/uploads/louis-hansel-9cjvlbughy-unsplash.jpg
END:VEVENT
END:VCALENDAR